BEGIN:VCALENDAR
VERSION:2.0
PRODID:-//Impulse Ministry - ECPv6.15.20//NONSGML v1.0//EN
CALSCALE:GREGORIAN
METHOD:PUBLISH
X-WR-CALNAME:Impulse Ministry
X-ORIGINAL-URL:https://impulseministry.org
X-WR-CALDESC:Events for Impulse Ministry
REFRESH-INTERVAL;VALUE=DURATION:PT1H
X-Robots-Tag:noindex
X-PUBLISHED-TTL:PT1H
BEGIN:VTIMEZONE
TZID:America/New_York
BEGIN:DAYLIGHT
TZOFFSETFROM:-0500
TZOFFSETTO:-0400
TZNAME:EDT
DTSTART:20250309T070000
END:DAYLIGHT
BEGIN:STANDARD
TZOFFSETFROM:-0400
TZOFFSETTO:-0500
TZNAME:EST
DTSTART:20251102T060000
END:STANDARD
BEGIN:DAYLIGHT
TZOFFSETFROM:-0500
TZOFFSETTO:-0400
TZNAME:EDT
DTSTART:20260308T070000
END:DAYLIGHT
BEGIN:STANDARD
TZOFFSETFROM:-0400
TZOFFSETTO:-0500
TZNAME:EST
DTSTART:20261101T060000
END:STANDARD
BEGIN:DAYLIGHT
TZOFFSETFROM:-0500
TZOFFSETTO:-0400
TZNAME:EDT
DTSTART:20270314T070000
END:DAYLIGHT
BEGIN:STANDARD
TZOFFSETFROM:-0400
TZOFFSETTO:-0500
TZNAME:EST
DTSTART:20271107T060000
END:STANDARD
END:VTIMEZONE
BEGIN:VEVENT
DTSTART;TZID=America/New_York:20260607T110000
DTEND;TZID=America/New_York:20260607T123000
DTSTAMP:20260424T152827
CREATED:20250322T184250Z
LAST-MODIFIED:20260405T211710Z
UID:2464-1780830000-1780835400@impulseministry.org
SUMMARY:Sunday Impulse at Smith Park
DESCRIPTION:Smith Park North Shelter\, located on the north end of Delaware is a great location. We look forward to having a great gathering in this great location. There are picnic tables\, but if you prefer you can always bring a chair.
URL:https://impulseministry.org/event/sunday-impulse-at-smith-park-4/
LOCATION:Smith Park\, 1305 Troy Rd\, Delaware\, OH\, 43015\, United States
END:VEVENT
BEGIN:VEVENT
DTSTART;TZID=America/New_York:20260614T110000
DTEND;TZID=America/New_York:20260614T123000
DTSTAMP:20260424T152827
CREATED:20250322T183521Z
LAST-MODIFIED:20260405T211811Z
UID:2454-1781434800-1781440200@impulseministry.org
SUMMARY:Sunday Impulse at Smith Park
DESCRIPTION:Smith Park North Shelter\, located on the north end of Delaware is a great location. We look forward to having a great gathering in this great location. There are picnic tables\, but if you prefer you can always bring a chair.
URL:https://impulseministry.org/event/sunday-impulse-at-smith-park-3/
LOCATION:Smith Park\, 1305 Troy Rd\, Delaware\, OH\, 43015\, United States
END:VEVENT
BEGIN:VEVENT
DTSTART;TZID=America/New_York:20260621T110000
DTEND;TZID=America/New_York:20260621T123000
DTSTAMP:20260424T152827
CREATED:20240705T003313Z
LAST-MODIFIED:20260405T211850Z
UID:2264-1782039600-1782045000@impulseministry.org
SUMMARY:Sunday Impulse at Smith Park
DESCRIPTION:Smith Park North Shelter\, located on the north end of Delaware is a great location. We look forward to having a great gathering in this great location. There are picnic tables\, but if you prefer you can always bring a chair.
URL:https://impulseministry.org/event/sunday-impulse-at-smith-park-2/
LOCATION:Smith Park\, 1305 Troy Rd\, Delaware\, OH\, 43015\, United States
END:VEVENT
BEGIN:VEVENT
DTSTART;TZID=America/New_York:20260628T110000
DTEND;TZID=America/New_York:20260628T133000
DTSTAMP:20260424T152827
CREATED:20250322T184652Z
LAST-MODIFIED:20260405T213238Z
UID:2470-1782644400-1782653400@impulseministry.org
SUMMARY:Gallant Park\, Radnor
DESCRIPTION:Gallant Woods Park picnic shelter is fantastic. It’s beautiful and peaceful- a perfect place to worship and seek God!!!
URL:https://impulseministry.org/event/gallant-park-radnor-2/
LOCATION:Gallant Woods\, 2151 Buttermilk Hill Rd\, Delaware\, OH\, 43015\, United States
END:VEVENT
END:VCALENDAR