BEGIN:VCALENDAR
VERSION:2.0
PRODID:-//Impulse Ministry - ECPv6.15.20//NONSGML v1.0//EN
CALSCALE:GREGORIAN
METHOD:PUBLISH
X-ORIGINAL-URL:https://impulseministry.org
X-WR-CALDESC:Events for Impulse Ministry
REFRESH-INTERVAL;VALUE=DURATION:PT1H
X-Robots-Tag:noindex
X-PUBLISHED-TTL:PT1H
BEGIN:VTIMEZONE
TZID:America/New_York
BEGIN:DAYLIGHT
TZOFFSETFROM:-0500
TZOFFSETTO:-0400
TZNAME:EDT
DTSTART:20240310T070000
END:DAYLIGHT
BEGIN:STANDARD
TZOFFSETFROM:-0400
TZOFFSETTO:-0500
TZNAME:EST
DTSTART:20241103T060000
END:STANDARD
BEGIN:DAYLIGHT
TZOFFSETFROM:-0500
TZOFFSETTO:-0400
TZNAME:EDT
DTSTART:20250309T070000
END:DAYLIGHT
BEGIN:STANDARD
TZOFFSETFROM:-0400
TZOFFSETTO:-0500
TZNAME:EST
DTSTART:20251102T060000
END:STANDARD
BEGIN:DAYLIGHT
TZOFFSETFROM:-0500
TZOFFSETTO:-0400
TZNAME:EDT
DTSTART:20260308T070000
END:DAYLIGHT
BEGIN:STANDARD
TZOFFSETFROM:-0400
TZOFFSETTO:-0500
TZNAME:EST
DTSTART:20261101T060000
END:STANDARD
END:VTIMEZONE
BEGIN:VEVENT
DTSTART;TZID=America/New_York:20250824T110000
DTEND;TZID=America/New_York:20250824T133000
DTSTAMP:20260424T234241
CREATED:20250322T184147Z
LAST-MODIFIED:20250322T184147Z
UID:2462-1756033200-1756042200@impulseministry.org
SUMMARY:Bicentennial Park
DESCRIPTION:The gazebo at Bicentennial Park is so inspiring when we worship God under the mature trees of this amazing area. It’s located right behind the fire station on Liberty St. Definitely wanna bring a chair and heart of worship to this beautiful canopy.
URL:https://impulseministry.org/event/bicentennial-park/
LOCATION:Bicentenial Park\, 121 S Washington St\,\, Delaware\, OH\, 43015\, United States
END:VEVENT
END:VCALENDAR