BEGIN:VCALENDAR
VERSION:2.0
PRODID:-//Impulse Ministry - ECPv6.15.20//NONSGML v1.0//EN
CALSCALE:GREGORIAN
METHOD:PUBLISH
X-ORIGINAL-URL:https://impulseministry.org
X-WR-CALDESC:Events for Impulse Ministry
REFRESH-INTERVAL;VALUE=DURATION:PT1H
X-Robots-Tag:noindex
X-PUBLISHED-TTL:PT1H
BEGIN:VTIMEZONE
TZID:UTC
BEGIN:STANDARD
TZOFFSETFROM:+0000
TZOFFSETTO:+0000
TZNAME:UTC
DTSTART:20250101T000000
END:STANDARD
END:VTIMEZONE
BEGIN:VTIMEZONE
TZID:America/New_York
BEGIN:DAYLIGHT
TZOFFSETFROM:-0500
TZOFFSETTO:-0400
TZNAME:EDT
DTSTART:20250309T070000
END:DAYLIGHT
BEGIN:STANDARD
TZOFFSETFROM:-0400
TZOFFSETTO:-0500
TZNAME:EST
DTSTART:20251102T060000
END:STANDARD
BEGIN:DAYLIGHT
TZOFFSETFROM:-0500
TZOFFSETTO:-0400
TZNAME:EDT
DTSTART:20260308T070000
END:DAYLIGHT
BEGIN:STANDARD
TZOFFSETFROM:-0400
TZOFFSETTO:-0500
TZNAME:EST
DTSTART:20261101T060000
END:STANDARD
BEGIN:DAYLIGHT
TZOFFSETFROM:-0500
TZOFFSETTO:-0400
TZNAME:EDT
DTSTART:20270314T070000
END:DAYLIGHT
BEGIN:STANDARD
TZOFFSETFROM:-0400
TZOFFSETTO:-0500
TZNAME:EST
DTSTART:20271107T060000
END:STANDARD
END:VTIMEZONE
BEGIN:VEVENT
DTSTART;TZID=UTC:20260719T110000
DTEND;TZID=UTC:20260719T123000
DTSTAMP:20260424T181431
CREATED:20250322T183559Z
LAST-MODIFIED:20260405T212342Z
UID:2456-1784458800-1784464200@impulseministry.org
SUMMARY:***Worship @ Blue Limestone***  (click for map)
DESCRIPTION:Historic Blue Limestone Park is an amazing place. The lake\, the trees\, the great outdoors with wonderful folks to gather up with in a celebration of God!!! There are picnic tables\, but if you prefer you can always bring a chair to the lower shelter.
URL:https://impulseministry.org/event/worship-blue-limestone-click-for-map-3/
LOCATION:Blue Limestone Park\, 6 King Avenue\, Delaware\, OH\, 43015
END:VEVENT
BEGIN:VEVENT
DTSTART;TZID=America/New_York:20260726T110000
DTEND;TZID=America/New_York:20260726T133000
DTSTAMP:20260424T181431
CREATED:20250322T184602Z
LAST-MODIFIED:20260405T213333Z
UID:2468-1785063600-1785072600@impulseministry.org
SUMMARY:Gallant Park\, Radnor
DESCRIPTION:Gallant Woods Park picnic shelter is fantastic. It’s beautiful and peaceful- a perfect place to worship and seek God!!!
URL:https://impulseministry.org/event/gallant-park-radnor/
LOCATION:Gallant Woods\, 2151 Buttermilk Hill Rd\, Delaware\, OH\, 43015\, United States
END:VEVENT
BEGIN:VEVENT
DTSTART;TZID=America/New_York:20260802T110000
DTEND;TZID=America/New_York:20260802T123000
DTSTAMP:20260424T181431
CREATED:20260405T212541Z
LAST-MODIFIED:20260405T212541Z
UID:2660-1785668400-1785673800@impulseministry.org
SUMMARY:Sunday Impulse at Smith Park
DESCRIPTION:Smith Park North Shelter\, located on the north end of Delaware is a great location. We look forward to having a great gathering in this great location. As always\, you may want to bring a chair along\, never quite sure how we will find things.
URL:https://impulseministry.org/event/sunday-impulse-at-smith-park-5/
LOCATION:Smith Park\, 1305 Troy Rd\, Delaware\, OH\, 43015\, United States
END:VEVENT
BEGIN:VEVENT
DTSTART;TZID=America/New_York:20260809T110000
DTEND;TZID=America/New_York:20260809T123000
DTSTAMP:20260424T181431
CREATED:20240705T002018Z
LAST-MODIFIED:20260405T212611Z
UID:2254-1786273200-1786278600@impulseministry.org
SUMMARY:Sunday Impulse at Smith Park
DESCRIPTION:Smith Park North Shelter\, located on the north end of Delaware is a great location. We look forward to having a great gathering in this great location. As always\, you may want to bring a chair along\, never quite sure how we will find things.
URL:https://impulseministry.org/event/sunday-impulse-at-smith-park/
LOCATION:Smith Park\, 1305 Troy Rd\, Delaware\, OH\, 43015\, United States
END:VEVENT
BEGIN:VEVENT
DTSTART;TZID=America/New_York:20260816T110000
DTEND;TZID=America/New_York:20260816T123000
DTSTAMP:20260424T181431
CREATED:20260405T212639Z
LAST-MODIFIED:20260405T212639Z
UID:2662-1786878000-1786883400@impulseministry.org
SUMMARY:Sunday Impulse at Smith Park
DESCRIPTION:Smith Park North Shelter\, located on the north end of Delaware is a great location. We look forward to having a great gathering in this great location. As always\, you may want to bring a chair along\, never quite sure how we will find things.
URL:https://impulseministry.org/event/sunday-impulse-at-smith-park-6/
LOCATION:Smith Park\, 1305 Troy Rd\, Delaware\, OH\, 43015\, United States
END:VEVENT
BEGIN:VEVENT
DTSTART;TZID=America/New_York:20260823T110000
DTEND;TZID=America/New_York:20260823T123000
DTSTAMP:20260424T181431
CREATED:20260405T212703Z
LAST-MODIFIED:20260405T212719Z
UID:2664-1787482800-1787488200@impulseministry.org
SUMMARY:Sunday Impulse at Smith Park
DESCRIPTION:Smith Park North Shelter\, located on the north end of Delaware is a great location. We look forward to having a great gathering in this great location. As always\, you may want to bring a chair along\, never quite sure how we will find things.
URL:https://impulseministry.org/event/sunday-impulse-at-smith-park-copy/
LOCATION:Smith Park\, 1305 Troy Rd\, Delaware\, OH\, 43015\, United States
END:VEVENT
BEGIN:VEVENT
DTSTART;TZID=America/New_York:20260830T110000
DTEND;TZID=America/New_York:20260830T123000
DTSTAMP:20260424T181431
CREATED:20260405T212744Z
LAST-MODIFIED:20260405T212744Z
UID:2667-1788087600-1788093000@impulseministry.org
SUMMARY:Sunday Impulse at Smith Park
DESCRIPTION:Smith Park North Shelter\, located on the north end of Delaware is a great location. We look forward to having a great gathering in this great location. As always\, you may want to bring a chair along\, never quite sure how we will find things.
URL:https://impulseministry.org/event/sunday-impulse-at-smith-park-7/
LOCATION:Smith Park\, 1305 Troy Rd\, Delaware\, OH\, 43015\, United States
END:VEVENT
BEGIN:VEVENT
DTSTART;TZID=America/New_York:20260906T110000
DTEND;TZID=America/New_York:20260906T123000
DTSTAMP:20260424T181431
CREATED:20240501T234027Z
LAST-MODIFIED:20260405T212839Z
UID:2155-1788692400-1788697800@impulseministry.org
SUMMARY:Sunday Impulse at Bicentennial Park
DESCRIPTION:There is something special about this place! It is such a beautiful location under the trees right behind the firehouse on Liberty Street. Having some worship time in a place that has large mature trees\, singing birds and a gentle breeze just comes together to make a very wonderful Sunday service.
URL:https://impulseministry.org/event/sunday-impulse-at-bicentennial-park/
LOCATION:Bicentenial Park\, 121 S Washington St\,\, Delaware\, OH\, 43015\, United States
END:VEVENT
BEGIN:VEVENT
DTSTART;TZID=America/New_York:20260913T110000
DTEND;TZID=America/New_York:20260913T123000
DTSTAMP:20260424T181431
CREATED:20260405T212941Z
LAST-MODIFIED:20260405T215014Z
UID:2669-1789297200-1789302600@impulseministry.org
SUMMARY:Sunday Impulse at Bicentennial Park
DESCRIPTION:There is something special about this place! It is such a beautiful location under the trees right behind the firehouse on Liberty Street. Having some worship time in a place that has large mature trees\, singing birds and a gentle breeze just comes together to make a very wonderful Sunday service.
URL:https://impulseministry.org/event/sunday-impulse-at-bicentennial-park-copy/
LOCATION:Bicentenial Park\, 121 S Washington St\,\, Delaware\, OH\, 43015\, United States
END:VEVENT
END:VCALENDAR