BEGIN:VCALENDAR
VERSION:2.0
PRODID:-//Impulse Ministry - ECPv6.15.20//NONSGML v1.0//EN
CALSCALE:GREGORIAN
METHOD:PUBLISH
X-WR-CALNAME:Impulse Ministry
X-ORIGINAL-URL:https://impulseministry.org
X-WR-CALDESC:Events for Impulse Ministry
REFRESH-INTERVAL;VALUE=DURATION:PT1H
X-Robots-Tag:noindex
X-PUBLISHED-TTL:PT1H
BEGIN:VTIMEZONE
TZID:America/New_York
BEGIN:DAYLIGHT
TZOFFSETFROM:-0500
TZOFFSETTO:-0400
TZNAME:EDT
DTSTART:20230312T070000
END:DAYLIGHT
BEGIN:STANDARD
TZOFFSETFROM:-0400
TZOFFSETTO:-0500
TZNAME:EST
DTSTART:20231105T060000
END:STANDARD
BEGIN:DAYLIGHT
TZOFFSETFROM:-0500
TZOFFSETTO:-0400
TZNAME:EDT
DTSTART:20240310T070000
END:DAYLIGHT
BEGIN:STANDARD
TZOFFSETFROM:-0400
TZOFFSETTO:-0500
TZNAME:EST
DTSTART:20241103T060000
END:STANDARD
BEGIN:DAYLIGHT
TZOFFSETFROM:-0500
TZOFFSETTO:-0400
TZNAME:EDT
DTSTART:20250309T070000
END:DAYLIGHT
BEGIN:STANDARD
TZOFFSETFROM:-0400
TZOFFSETTO:-0500
TZNAME:EST
DTSTART:20251102T060000
END:STANDARD
BEGIN:DAYLIGHT
TZOFFSETFROM:-0500
TZOFFSETTO:-0400
TZNAME:EDT
DTSTART:20260308T070000
END:DAYLIGHT
BEGIN:STANDARD
TZOFFSETFROM:-0400
TZOFFSETTO:-0500
TZNAME:EST
DTSTART:20261101T060000
END:STANDARD
END:VTIMEZONE
BEGIN:VTIMEZONE
TZID:UTC
BEGIN:STANDARD
TZOFFSETFROM:+0000
TZOFFSETTO:+0000
TZNAME:UTC
DTSTART:20240101T000000
END:STANDARD
END:VTIMEZONE
BEGIN:VEVENT
DTSTART;TZID=America/New_York:20251228T080000
DTEND;TZID=America/New_York:20251228T170000
DTSTAMP:20260424T231649
CREATED:20251228T160534Z
LAST-MODIFIED:20251228T160534Z
UID:2609-1766908800-1766941200@impulseministry.org
SUMMARY:Impulse Closed
DESCRIPTION:We will not be meeting Dec 28 and Jan 4\, back to standard meetings on the 11th.
URL:https://impulseministry.org/event/impulse-closed/
LOCATION:OH
END:VEVENT
BEGIN:VEVENT
DTSTART;TZID=America/New_York:20251224T180000
DTEND;TZID=America/New_York:20251224T193000
DTSTAMP:20260424T231649
CREATED:20251214T165947Z
LAST-MODIFIED:20251214T165947Z
UID:2606-1766599200-1766604600@impulseministry.org
SUMMARY:Christmas Eve Service
DESCRIPTION:Join Impulse Ministry for a traditional Christmas Eve Service. We will have fantastic worship\, an encouraging word\, and the best Coffee in the area along with some snacks and blessed fellowship.
URL:https://impulseministry.org/event/christmas-eve-service/
LOCATION:Choffey’s Coffee\, 17 W Winter St\, Delaware\, Ohio\, 43015
END:VEVENT
BEGIN:VEVENT
DTSTART;TZID=America/New_York:20250824T110000
DTEND;TZID=America/New_York:20250824T133000
DTSTAMP:20260424T231649
CREATED:20250322T184147Z
LAST-MODIFIED:20250322T184147Z
UID:2462-1756033200-1756042200@impulseministry.org
SUMMARY:Bicentennial Park
DESCRIPTION:The gazebo at Bicentennial Park is so inspiring when we worship God under the mature trees of this amazing area. It’s located right behind the fire station on Liberty St. Definitely wanna bring a chair and heart of worship to this beautiful canopy.
URL:https://impulseministry.org/event/bicentennial-park/
LOCATION:Bicentenial Park\, 121 S Washington St\,\, Delaware\, OH\, 43015\, United States
END:VEVENT
BEGIN:VEVENT
DTSTART;TZID=UTC:20250629T110000
DTEND;TZID=UTC:20250629T123000
DTSTAMP:20260424T231649
CREATED:20250322T183417Z
LAST-MODIFIED:20250322T183417Z
UID:2452-1751194800-1751200200@impulseministry.org
SUMMARY:***Worship @ Blue Limestone***  (click for map)
DESCRIPTION:Historic Blue Limestone Park is an amazing place. The lake\, the trees\, the great outdoors with wonderful folks to gather up with in a celebration of God!!! There are picnic tables\, but if you prefer you can always bring a chair to the lower shelter.
URL:https://impulseministry.org/event/worship-blue-limestone-click-for-map-2/
LOCATION:Blue Limestone Park\, 6 King Avenue\, Delaware\, OH\, 43015
END:VEVENT
BEGIN:VEVENT
DTSTART;TZID=UTC:20250608T110000
DTEND;TZID=UTC:20250608T123000
DTSTAMP:20260424T231649
CREATED:20250322T183003Z
LAST-MODIFIED:20250322T183003Z
UID:2447-1749380400-1749385800@impulseministry.org
SUMMARY:***Worship @ Blue Limestone***  (click for map)
DESCRIPTION:Historic Blue Limestone Park is an amazing place. The lake\, the trees\, the great outdoors with wonderful folks to gather up with in a celebration of God!!! There are picnic tables\, but if you prefer you can always bring a chair to the lower shelter.
URL:https://impulseministry.org/event/worship-blue-limestone-click-for-map/
LOCATION:Blue Limestone Park\, 6 King Avenue\, Delaware\, OH\, 43015
END:VEVENT
BEGIN:VEVENT
DTSTART;TZID=UTC:20250518T110000
DTEND;TZID=UTC:20250518T123000
DTSTAMP:20260424T231649
CREATED:20230909T215837Z
LAST-MODIFIED:20250322T182744Z
UID:1833-1747566000-1747571400@impulseministry.org
SUMMARY:***Worship @ Blue Limestone***  (click for map)
DESCRIPTION:Historic Blue Limestone Park is an amazing place. The lake\, the trees\, the great outdoors with wonderful folks to gather up with in a celebration of God!!! There are picnic tables\, but if you prefer you can always bring a chair to the lower shelter.
URL:https://impulseministry.org/event/sunday-blue-limestone/
LOCATION:Blue Limestone Park\, 6 King Avenue\, Delaware\, OH\, 43015
END:VEVENT
BEGIN:VEVENT
DTSTART;TZID=America/New_York:20250427T110000
DTEND;TZID=America/New_York:20250427T123000
DTSTAMP:20260424T231649
CREATED:20250119T224130Z
LAST-MODIFIED:20250322T185235Z
UID:2427-1745751600-1745757000@impulseministry.org
SUMMARY:Worship @ Choffey's Coffee
DESCRIPTION:Great time of worship\, Word and fellowship- ALL WELCOME
URL:https://impulseministry.org/event/worship-choffeys-coffee-5/
LOCATION:Choffey’s Coffee\, 17 W Winter St\, Delaware\, Ohio\, 43015
END:VEVENT
BEGIN:VEVENT
DTSTART;TZID=America/New_York:20250413T110000
DTEND;TZID=America/New_York:20250413T123000
DTSTAMP:20260424T231649
CREATED:20241110T224103Z
LAST-MODIFIED:20250310T124652Z
UID:2428-1744542000-1744547400@impulseministry.org
SUMMARY:Worship @ Choffey's Coffee
DESCRIPTION:Great time of worship and fellowship- ALL WELCOME!
URL:https://impulseministry.org/event/worship-choffeys-coffee-4/
LOCATION:Choffey’s Coffee\, 17 W Winter St\, Delaware\, Ohio\, 43015
END:VEVENT
BEGIN:VEVENT
DTSTART;TZID=America/New_York:20250330T110000
DTEND;TZID=America/New_York:20250330T123000
DTSTAMP:20260424T231649
CREATED:20240105T021344Z
LAST-MODIFIED:20250310T124529Z
UID:2120-1743332400-1743337800@impulseministry.org
SUMMARY:Worship @ Choffey's Coffee
DESCRIPTION:Great time of worship\, Word and fellowship- ALL WELCOME
URL:https://impulseministry.org/event/worship-choffeys-coffee-2/
LOCATION:Choffey’s Coffee\, 17 W Winter St\, Delaware\, Ohio\, 43015
END:VEVENT
BEGIN:VEVENT
DTSTART;TZID=America/New_York:20250323T110000
DTEND;TZID=America/New_York:20250323T123000
DTSTAMP:20260424T231649
CREATED:20241110T224211Z
LAST-MODIFIED:20250310T124351Z
UID:2431-1742727600-1742733000@impulseministry.org
SUMMARY:Worship @ Choffey's Coffee
DESCRIPTION:Great time of worship\, Word and fellowship- ALL WELCOME
URL:https://impulseministry.org/event/worship-choffeys-coffee-6/
LOCATION:Choffey’s Coffee\, 17 W Winter St\, Delaware\, Ohio\, 43015
END:VEVENT
BEGIN:VEVENT
DTSTART;TZID=America/New_York:20250312T110000
DTEND;TZID=America/New_York:20250312T123000
DTSTAMP:20260424T231649
CREATED:20240324T231518Z
LAST-MODIFIED:20250322T185109Z
UID:2135-1741777200-1741782600@impulseministry.org
SUMMARY:Worship\, Word & Communion @ Choffey's Coffee
DESCRIPTION:Great time of worship and fellowship- ALL WELCOME! \nThe first of the month is communion Sunday.
URL:https://impulseministry.org/event/worship-choffeys-coffee-3/
LOCATION:Choffey’s Coffee\, 17 W Winter St\, Delaware\, Ohio\, 43015
END:VEVENT
BEGIN:VEVENT
DTSTART;TZID=America/New_York:20250304T110000
DTEND;TZID=America/New_York:20250304T123000
DTSTAMP:20260424T231649
CREATED:20240705T001311Z
LAST-MODIFIED:20250322T185129Z
UID:2247-1741086000-1741091400@impulseministry.org
SUMMARY:Worship\, Word & Communion @ Choffey's Coffee
DESCRIPTION:Great time of worship and fellowship- ALL WELCOME! \nThe first of the month is communion Sunday.
URL:https://impulseministry.org/event/worship-word-communion-choffeys-coffee/
LOCATION:Choffey’s Coffee\, 17 W Winter St\, Delaware\, Ohio\, 43015
END:VEVENT
BEGIN:VEVENT
DTSTART;TZID=America/New_York:20241222T110000
DTEND;TZID=America/New_York:20241222T123000
DTSTAMP:20260424T231649
CREATED:20241220T001339Z
LAST-MODIFIED:20241220T003535Z
UID:2434-1734865200-1734870600@impulseministry.org
SUMMARY:Christmas With Impulse
DESCRIPTION:This will be our Christmas service. We are not going to do a Christmas Eve service so that all of our church families can spend the evening with their families and extended families. We hope and pray that you will have a wonderful season enjoying all of the festivities\, family\, food\, but most importantly the reason for it all…the remembrance of our Lord and Savior Jesus Christ. He stepped out of eternity into this corrupt and sinful world to save anyone who would hear His message and believe in Him for eternal salvation. We celebrate His first sacrifice of being willing to lay down His place and position in eternity to become a helpless human baby…with the ultimate destiny which we celebrate at Easter! Be blessed everyone.
URL:https://impulseministry.org/event/christmas-with-impulse/
LOCATION:Choffey’s Coffee\, 17 W Winter St\, Delaware\, Ohio\, 43015
END:VEVENT
BEGIN:VEVENT
DTSTART;TZID=America/New_York:20240811T110000
DTEND;TZID=America/New_York:20240811T123000
DTSTAMP:20260424T231649
CREATED:20240705T003512Z
LAST-MODIFIED:20240705T003520Z
UID:2266-1723374000-1723379400@impulseministry.org
SUMMARY:Impulse at Delaware County Fairgrounds
DESCRIPTION:We will be having our Sunday Gathering at the 1550 WDLR stage near the front entrance\, right next to the Coliseum. Everyone is more than welcome to come out and join us in Celebrating the awesome\, wonderful God that we love and worship. \nReminder: Bring your own chairs. Also\, if the weather is terrible\, we will go back to Choffey’s Coffee. \nClick the link below for a map of the fairgrounds if you need some help finding the stage. It is #7 on the map. \nfairmap_2021_HM_FINAL-8×11-1
URL:https://impulseministry.org/event/impulse-at-delaware-county-fairgrounds-2/
LOCATION:Delaware County Fairgrounds\, 236 Pennsylvania Avenue\, Delaware\, OH\, 43015\, United States
END:VEVENT
BEGIN:VEVENT
DTSTART;TZID=America/New_York:20240807T110000
DTEND;TZID=America/New_York:20240807T123000
DTSTAMP:20260424T231649
CREATED:20240705T003703Z
LAST-MODIFIED:20240922T165547Z
UID:2268-1723028400-1723033800@impulseministry.org
SUMMARY:Impulse at Delaware County Fairgrounds - Copy
DESCRIPTION:We will be having our Sunday Gathering at the 1550 WDLR stage near the front entrance\, right next to the Coliseum. Everyone is more than welcome to come out and join us in Celebrating the awesome\, wonderful God that we love and worship. \nReminder: Bring your own chairs. Also\, if the weather is terrible\, we will go back to Choffey’s Coffee. \nClick the link below for a map of the fairgrounds if you need some help finding the stage. It is #7 on the map. \nfairmap_2021_HM_FINAL-8×11-1
URL:https://impulseministry.org/event/impulse-at-delaware-county-fairgrounds-copy-2/
LOCATION:Delaware County Fairgrounds\, 236 Pennsylvania Avenue\, Delaware\, OH\, 43015\, United States
END:VEVENT
BEGIN:VEVENT
DTSTART;TZID=America/New_York:20240728T110000
DTEND;TZID=America/New_York:20240728T123000
DTSTAMP:20260424T231649
CREATED:20240602T170655Z
LAST-MODIFIED:20240705T001020Z
UID:2201-1722164400-1722169800@impulseministry.org
SUMMARY:Impulse at Delaware County Fairgrounds
DESCRIPTION:We will be having our Sunday Gathering at the 1550 WDLR stage near the front entrance\, right next to the Coliseum. Everyone is more than welcome to come out and join us in Celebrating the awesome\, wonderful God that we love and worship. \nReminder: Bring your own chairs. Also\, if the weather is terrible\, we will go back to Choffey’s Coffee. \nClick the link below for a map of the fairgrounds if you need some help finding the stage. It is #7 on the map. \nfairmap_2021_HM_FINAL-8×11-1
URL:https://impulseministry.org/event/impulse-at-delaware-county-fairgrounds/
LOCATION:Delaware County Fairgrounds\, 236 Pennsylvania Avenue\, Delaware\, OH\, 43015\, United States
END:VEVENT
BEGIN:VEVENT
DTSTART;TZID=America/New_York:20240721T110000
DTEND;TZID=America/New_York:20240721T123000
DTSTAMP:20260424T231649
CREATED:20240705T003044Z
LAST-MODIFIED:20240705T004222Z
UID:2260-1721559600-1721565000@impulseministry.org
SUMMARY:Sunday Impulse at Gallant Woods Park
DESCRIPTION:This is a great location for worship! Gallant Park is a wonderful place. After the gathering is through\, there are nice trails to wander around through. Grab a chair and come out to get some fresh air and a bit of refreshing with God.
URL:https://impulseministry.org/event/sunday-impulse-at-gallant-woods-park/
LOCATION:Gallant Woods\, 2151 Buttermilk Hill Rd\, Delaware\, OH\, 43015\, United States
END:VEVENT
BEGIN:VEVENT
DTSTART;TZID=America/New_York:20240714T110000
DTEND;TZID=America/New_York:20240714T123000
DTSTAMP:20260424T231649
CREATED:20240705T000955Z
LAST-MODIFIED:20240705T001245Z
UID:2245-1720954800-1720960200@impulseministry.org
SUMMARY:Impulse at Delaware County Fairgrounds
DESCRIPTION:We will be having our Sunday Gathering at the 1550 WDLR stage near the front entrance\, right next to the Coliseum. Everyone is more than welcome to come out and join us in Celebrating the awesome\, wonderful God that we love and worship. \nReminder: Bring your own chairs. Also\, if the weather is terrible\, we will go back to Choffey’s Coffee. \nClick the link below for a map of the fairgrounds if you need some help finding the stage. It is #7 on the map. \nfairmap_2021_HM_FINAL-8×11-1
URL:https://impulseministry.org/event/impulse-at-delaware-county-fairgrounds-copy/
LOCATION:Delaware County Fairgrounds\, 236 Pennsylvania Avenue\, Delaware\, OH\, 43015\, United States
END:VEVENT
BEGIN:VEVENT
DTSTART;TZID=America/New_York:20240519T110000
DTEND;TZID=America/New_York:20240519T123000
DTSTAMP:20260424T231649
CREATED:20240324T231428Z
LAST-MODIFIED:20240501T233451Z
UID:2132-1716116400-1716121800@impulseministry.org
SUMMARY:Delaware Arts Festival Worship
DESCRIPTION:We will still be doing our normal service during the Delaware Arts Festival and Choffey’s will be open! \nGreat time of worship and fellowship- ALL WELCOME!
URL:https://impulseministry.org/event/worship-choffeys-coffee-copy/
LOCATION:Choffey’s Coffee\, 17 W Winter St\, Delaware\, Ohio\, 43015
END:VEVENT
BEGIN:VEVENT
DTSTART;TZID=America/New_York:20240331T110000
DTEND;TZID=America/New_York:20240331T123000
DTSTAMP:20260424T231649
CREATED:20240324T230849Z
LAST-MODIFIED:20240324T231105Z
UID:2127-1711882800-1711888200@impulseministry.org
SUMMARY:Easter with Impulse
DESCRIPTION:Easter is one of the key tenants of Christianity as it celebrates the resurrection of Jesus Christ. Without the resurrection\, there is no Christianity\, at all. We all would be wasting out time\, energy and money believing on nothing. But the truth of it is that He did actually live. He did actually die on a cross. And\, He did raise from the dead three days after being crucified. \nOne of the most compelling arguments for these bold statements is that many writings at the time verify the events\, even writings from His critics. It’s easy to question or scrutinize events decades and centuries later\, but if the contemporaries of the time don’t disagree then it stands to reason that the story is true. Plus\, the evidence for all of this is found in many ancient writings\, not just the Bible. \nSo as a group of believers\, we will be celebrating the resurrection of Jesus on Sunday\, March 31 at 11 a.m. Everyone is welcome\, so come on over to Choffey’s and have a wonderful time in the celebration of the one who overcame Hell\, death\, and the grave- all for YOU!!!
URL:https://impulseministry.org/event/easter-with-impulse/
LOCATION:Choffey’s Coffee\, 17 W Winter St\, Delaware\, Ohio\, 43015
END:VEVENT
END:VCALENDAR